BEGIN:VCALENDAR
VERSION:2.0
PRODID:-//Vancouver Diocesan Council Catholic Womens League of Canada - ECPv6.15.13.1//NONSGML v1.0//EN
CALSCALE:GREGORIAN
METHOD:PUBLISH
X-ORIGINAL-URL:https://vancouvercwl.ca
X-WR-CALDESC:Events for Vancouver Diocesan Council Catholic Womens League of Canada
REFRESH-INTERVAL;VALUE=DURATION:PT1H
X-Robots-Tag:noindex
X-PUBLISHED-TTL:PT1H
BEGIN:VTIMEZONE
TZID:America/Vancouver
BEGIN:DAYLIGHT
TZOFFSETFROM:-0800
TZOFFSETTO:-0700
TZNAME:PDT
DTSTART:20240310T100000
END:DAYLIGHT
BEGIN:STANDARD
TZOFFSETFROM:-0700
TZOFFSETTO:-0800
TZNAME:PST
DTSTART:20241103T090000
END:STANDARD
BEGIN:DAYLIGHT
TZOFFSETFROM:-0800
TZOFFSETTO:-0700
TZNAME:PDT
DTSTART:20250309T100000
END:DAYLIGHT
BEGIN:STANDARD
TZOFFSETFROM:-0700
TZOFFSETTO:-0800
TZNAME:PST
DTSTART:20251102T090000
END:STANDARD
BEGIN:DAYLIGHT
TZOFFSETFROM:-0800
TZOFFSETTO:-0700
TZNAME:PDT
DTSTART:20260308T100000
END:DAYLIGHT
BEGIN:STANDARD
TZOFFSETFROM:-0700
TZOFFSETTO:-0800
TZNAME:PST
DTSTART:20261101T090000
END:STANDARD
END:VTIMEZONE
BEGIN:VEVENT
DTSTART;TZID=America/Vancouver:20250927T160000
DTEND;TZID=America/Vancouver:20250927T160000
DTSTAMP:20260424T095415
CREATED:20250328T051015Z
LAST-MODIFIED:20250328T051202Z
UID:5559-1758988800-1758988800@vancouvercwl.ca
SUMMARY:St. Helen's CWL Council Celebrating 15th Anniversary
DESCRIPTION:St. Helen’s CWL is celebrating its 15th anniversary on September 27\, 2025 starting with Mass at 4 PM. Refreshments will be served after Mass at the parish basement hall. There will also be a pin presentation and long service award ceremony.
URL:https://vancouvercwl.ca/event/st-helens-cwl-council-celebrating-15th-anniversary/
LOCATION:St. Helen’s Parish\, 3860 Triump St.\, Burnaby
CATEGORIES:Mass/Vigil
END:VEVENT
END:VCALENDAR