BEGIN:VCALENDAR
VERSION:2.0
PRODID:-//Vancouver Diocesan Council Catholic Womens League of Canada - ECPv6.15.13.1//NONSGML v1.0//EN
CALSCALE:GREGORIAN
METHOD:PUBLISH
X-WR-CALNAME:Vancouver Diocesan Council Catholic Womens League of Canada
X-ORIGINAL-URL:https://vancouvercwl.ca
X-WR-CALDESC:Events for Vancouver Diocesan Council Catholic Womens League of Canada
REFRESH-INTERVAL;VALUE=DURATION:PT1H
X-Robots-Tag:noindex
X-PUBLISHED-TTL:PT1H
BEGIN:VTIMEZONE
TZID:America/Vancouver
BEGIN:DAYLIGHT
TZOFFSETFROM:-0800
TZOFFSETTO:-0700
TZNAME:PDT
DTSTART:20240310T100000
END:DAYLIGHT
BEGIN:STANDARD
TZOFFSETFROM:-0700
TZOFFSETTO:-0800
TZNAME:PST
DTSTART:20241103T090000
END:STANDARD
BEGIN:DAYLIGHT
TZOFFSETFROM:-0800
TZOFFSETTO:-0700
TZNAME:PDT
DTSTART:20250309T100000
END:DAYLIGHT
BEGIN:STANDARD
TZOFFSETFROM:-0700
TZOFFSETTO:-0800
TZNAME:PST
DTSTART:20251102T090000
END:STANDARD
BEGIN:DAYLIGHT
TZOFFSETFROM:-0800
TZOFFSETTO:-0700
TZNAME:PDT
DTSTART:20260308T100000
END:DAYLIGHT
BEGIN:STANDARD
TZOFFSETFROM:-0700
TZOFFSETTO:-0800
TZNAME:PST
DTSTART:20261101T090000
END:STANDARD
END:VTIMEZONE
BEGIN:VEVENT
DTSTART;VALUE=DATE:20250501
DTEND;VALUE=DATE:20250504
DTSTAMP:20260419T150344
CREATED:20250112T153708Z
LAST-MODIFIED:20250301T005415Z
UID:5252-1746057600-1746316799@vancouvercwl.ca
SUMMARY:Vancouver Diocesan Convention
DESCRIPTION:  \nOnline Registration and Information
URL:https://vancouvercwl.ca/event/vancouver-diocesan-convention/
LOCATION:St. Bernadette’s Parish\, 6543 132st.\, Surrey\, B.C.\, Canada
CATEGORIES:Feature
END:VEVENT
END:VCALENDAR