BEGIN:VCALENDAR
VERSION:2.0
PRODID:-//Vancouver Diocesan Council Catholic Womens League of Canada - ECPv6.15.13.1//NONSGML v1.0//EN
CALSCALE:GREGORIAN
METHOD:PUBLISH
X-WR-CALNAME:Vancouver Diocesan Council Catholic Womens League of Canada
X-ORIGINAL-URL:https://vancouvercwl.ca
X-WR-CALDESC:Events for Vancouver Diocesan Council Catholic Womens League of Canada
REFRESH-INTERVAL;VALUE=DURATION:PT1H
X-Robots-Tag:noindex
X-PUBLISHED-TTL:PT1H
BEGIN:VTIMEZONE
TZID:America/Vancouver
BEGIN:DAYLIGHT
TZOFFSETFROM:-0800
TZOFFSETTO:-0700
TZNAME:PDT
DTSTART:20240310T100000
END:DAYLIGHT
BEGIN:STANDARD
TZOFFSETFROM:-0700
TZOFFSETTO:-0800
TZNAME:PST
DTSTART:20241103T090000
END:STANDARD
BEGIN:DAYLIGHT
TZOFFSETFROM:-0800
TZOFFSETTO:-0700
TZNAME:PDT
DTSTART:20250309T100000
END:DAYLIGHT
BEGIN:STANDARD
TZOFFSETFROM:-0700
TZOFFSETTO:-0800
TZNAME:PST
DTSTART:20251102T090000
END:STANDARD
BEGIN:DAYLIGHT
TZOFFSETFROM:-0800
TZOFFSETTO:-0700
TZNAME:PDT
DTSTART:20260308T100000
END:DAYLIGHT
BEGIN:STANDARD
TZOFFSETFROM:-0700
TZOFFSETTO:-0800
TZNAME:PST
DTSTART:20261101T090000
END:STANDARD
END:VTIMEZONE
BEGIN:VEVENT
DTSTART;TZID=America/Vancouver:20250426T090000
DTEND;TZID=America/Vancouver:20250426T090000
DTSTAMP:20260419T204949
CREATED:20250404T133736Z
LAST-MODIFIED:20250404T134254Z
UID:5572-1745658000-1745658000@vancouvercwl.ca
SUMMARY:St. Matthew's CWL 40th Anniversary
DESCRIPTION:[pdf-embedder url=”https://vancouvercwl.ca/cms/wp-content/uploads/St.MatthewsCWL40thAnniversary.pdf” title=”St.Matthew’sCWL40thAnniversary”]
URL:https://vancouvercwl.ca/event/st-matthews-cwl-40th-anniversary/
LOCATION:St. Matthew’s Parish\, 16079 88th Avenue\, Surrey
CATEGORIES:Feature
END:VEVENT
END:VCALENDAR