BEGIN:VCALENDAR
VERSION:2.0
PRODID:-//Vancouver Diocesan Council Catholic Womens League of Canada - ECPv6.15.13.1//NONSGML v1.0//EN
CALSCALE:GREGORIAN
METHOD:PUBLISH
X-ORIGINAL-URL:https://vancouvercwl.ca
X-WR-CALDESC:Events for Vancouver Diocesan Council Catholic Womens League of Canada
REFRESH-INTERVAL;VALUE=DURATION:PT1H
X-Robots-Tag:noindex
X-PUBLISHED-TTL:PT1H
BEGIN:VTIMEZONE
TZID:America/Vancouver
BEGIN:DAYLIGHT
TZOFFSETFROM:-0800
TZOFFSETTO:-0700
TZNAME:PDT
DTSTART:20240310T100000
END:DAYLIGHT
BEGIN:STANDARD
TZOFFSETFROM:-0700
TZOFFSETTO:-0800
TZNAME:PST
DTSTART:20241103T090000
END:STANDARD
BEGIN:DAYLIGHT
TZOFFSETFROM:-0800
TZOFFSETTO:-0700
TZNAME:PDT
DTSTART:20250309T100000
END:DAYLIGHT
BEGIN:STANDARD
TZOFFSETFROM:-0700
TZOFFSETTO:-0800
TZNAME:PST
DTSTART:20251102T090000
END:STANDARD
BEGIN:DAYLIGHT
TZOFFSETFROM:-0800
TZOFFSETTO:-0700
TZNAME:PDT
DTSTART:20260308T100000
END:DAYLIGHT
BEGIN:STANDARD
TZOFFSETFROM:-0700
TZOFFSETTO:-0800
TZNAME:PST
DTSTART:20261101T090000
END:STANDARD
END:VTIMEZONE
BEGIN:VEVENT
DTSTART;TZID=America/Vancouver:20251214T090000
DTEND;TZID=America/Vancouver:20251214T150000
DTSTAMP:20260424T045357
CREATED:20251125T035938Z
LAST-MODIFIED:20251125T035938Z
UID:6169-1765702800-1765724400@vancouvercwl.ca
SUMMARY:St. James CWL Council - Christmas Parish Bazaar
DESCRIPTION:St. James CWL Council – Christmas Parish Bazaar \nDec. 14\, 2025  9:00 AM – 3:00 PM \nLocation beside of our St. James Parish \n2767 Townline Rd \nSt. James and St. Ann’s School Gym \nThank you and see you there \n 
URL:https://vancouvercwl.ca/event/st-james-cwl-council-christmas-parish-bazaar/
CATEGORIES:Craft Fair
END:VEVENT
BEGIN:VEVENT
DTSTART;TZID=America/Vancouver:20251122T093000
DTEND;TZID=America/Vancouver:20251122T150000
DTSTAMP:20260424T045357
CREATED:20251027T214355Z
LAST-MODIFIED:20251027T214355Z
UID:6161-1763803800-1763823600@vancouvercwl.ca
SUMMARY:St. Peter's Annual CWL Bazaar
DESCRIPTION:
URL:https://vancouvercwl.ca/event/st-peters-annual-cwl-bazaar/
LOCATION:St. Peter’s Parish Hall\, 330 Royal Avenue\, New Westminster\, B.C.\, Canada
CATEGORIES:Craft Fair
END:VEVENT
BEGIN:VEVENT
DTSTART;TZID=America/Vancouver:20251122T090000
DTEND;TZID=America/Vancouver:20251122T150000
DTSTAMP:20260424T045357
CREATED:20251023T160147Z
LAST-MODIFIED:20251023T160147Z
UID:6157-1763802000-1763823600@vancouvercwl.ca
SUMMARY:St. Ann's Christmas Market
DESCRIPTION:
URL:https://vancouvercwl.ca/event/st-anns-christmas-market-2/
LOCATION:St. Ann’s Parish\, 33333 Mayfair Avenue\, Abbotsford\, B.C.\, Canada
CATEGORIES:Craft Fair
END:VEVENT
BEGIN:VEVENT
DTSTART;TZID=America/Vancouver:20251121T160000
DTEND;TZID=America/Vancouver:20251121T200000
DTSTAMP:20260424T045357
CREATED:20251023T160031Z
LAST-MODIFIED:20251023T160031Z
UID:6154-1763740800-1763755200@vancouvercwl.ca
SUMMARY:St. Ann's Christmas Market
DESCRIPTION:
URL:https://vancouvercwl.ca/event/st-anns-christmas-market/
LOCATION:St. Ann’s Parish\, 33333 Mayfair Avenue\, Abbotsford\, B.C.\, Canada
CATEGORIES:Craft Fair
END:VEVENT
BEGIN:VEVENT
DTSTART;TZID=America/Vancouver:20251025T100000
DTEND;TZID=America/Vancouver:20251025T150000
DTSTAMP:20260424T045357
CREATED:20251015T152848Z
LAST-MODIFIED:20251015T153033Z
UID:6147-1761386400-1761404400@vancouvercwl.ca
SUMMARY:St. Frances de Sales Craft Fair
DESCRIPTION:
URL:https://vancouvercwl.ca/event/6147/
LOCATION:St. Francis de Sales\, 6610 Balmoral St.\, Burnaby\, BC\, V5E 1J1\, Canada
CATEGORIES:Craft Fair
END:VEVENT
END:VCALENDAR