BEGIN:VCALENDAR
VERSION:2.0
PRODID:-//Vancouver Diocesan Council Catholic Womens League of Canada - ECPv6.15.13.1//NONSGML v1.0//EN
CALSCALE:GREGORIAN
METHOD:PUBLISH
X-WR-CALNAME:Vancouver Diocesan Council Catholic Womens League of Canada
X-ORIGINAL-URL:https://vancouvercwl.ca
X-WR-CALDESC:Events for Vancouver Diocesan Council Catholic Womens League of Canada
REFRESH-INTERVAL;VALUE=DURATION:PT1H
X-Robots-Tag:noindex
X-PUBLISHED-TTL:PT1H
BEGIN:VTIMEZONE
TZID:America/Vancouver
BEGIN:DAYLIGHT
TZOFFSETFROM:-0800
TZOFFSETTO:-0700
TZNAME:PDT
DTSTART:20240310T100000
END:DAYLIGHT
BEGIN:STANDARD
TZOFFSETFROM:-0700
TZOFFSETTO:-0800
TZNAME:PST
DTSTART:20241103T090000
END:STANDARD
BEGIN:DAYLIGHT
TZOFFSETFROM:-0800
TZOFFSETTO:-0700
TZNAME:PDT
DTSTART:20250309T100000
END:DAYLIGHT
BEGIN:STANDARD
TZOFFSETFROM:-0700
TZOFFSETTO:-0800
TZNAME:PST
DTSTART:20251102T090000
END:STANDARD
BEGIN:DAYLIGHT
TZOFFSETFROM:-0800
TZOFFSETTO:-0700
TZNAME:PDT
DTSTART:20260308T100000
END:DAYLIGHT
BEGIN:STANDARD
TZOFFSETFROM:-0700
TZOFFSETTO:-0800
TZNAME:PST
DTSTART:20261101T090000
END:STANDARD
END:VTIMEZONE
BEGIN:VEVENT
DTSTART;TZID=America/Vancouver:20251214T090000
DTEND;TZID=America/Vancouver:20251214T150000
DTSTAMP:20260424T152920
CREATED:20251125T035938Z
LAST-MODIFIED:20251125T035938Z
UID:6169-1765702800-1765724400@vancouvercwl.ca
SUMMARY:St. James CWL Council - Christmas Parish Bazaar
DESCRIPTION:St. James CWL Council – Christmas Parish Bazaar \nDec. 14\, 2025  9:00 AM – 3:00 PM \nLocation beside of our St. James Parish \n2767 Townline Rd \nSt. James and St. Ann’s School Gym \nThank you and see you there \n 
URL:https://vancouvercwl.ca/event/st-james-cwl-council-christmas-parish-bazaar/
CATEGORIES:Craft Fair
END:VEVENT
END:VCALENDAR