BEGIN:VCALENDAR
VERSION:2.0
PRODID:-//Vancouver Diocesan Council Catholic Womens League of Canada - ECPv6.15.13.1//NONSGML v1.0//EN
CALSCALE:GREGORIAN
METHOD:PUBLISH
X-WR-CALNAME:Vancouver Diocesan Council Catholic Womens League of Canada
X-ORIGINAL-URL:https://vancouvercwl.ca
X-WR-CALDESC:Events for Vancouver Diocesan Council Catholic Womens League of Canada
REFRESH-INTERVAL;VALUE=DURATION:PT1H
X-Robots-Tag:noindex
X-PUBLISHED-TTL:PT1H
BEGIN:VTIMEZONE
TZID:America/Vancouver
BEGIN:DAYLIGHT
TZOFFSETFROM:-0800
TZOFFSETTO:-0700
TZNAME:PDT
DTSTART:20230312T100000
END:DAYLIGHT
BEGIN:STANDARD
TZOFFSETFROM:-0700
TZOFFSETTO:-0800
TZNAME:PST
DTSTART:20231105T090000
END:STANDARD
BEGIN:DAYLIGHT
TZOFFSETFROM:-0800
TZOFFSETTO:-0700
TZNAME:PDT
DTSTART:20240310T100000
END:DAYLIGHT
BEGIN:STANDARD
TZOFFSETFROM:-0700
TZOFFSETTO:-0800
TZNAME:PST
DTSTART:20241103T090000
END:STANDARD
BEGIN:DAYLIGHT
TZOFFSETFROM:-0800
TZOFFSETTO:-0700
TZNAME:PDT
DTSTART:20250309T100000
END:DAYLIGHT
BEGIN:STANDARD
TZOFFSETFROM:-0700
TZOFFSETTO:-0800
TZNAME:PST
DTSTART:20251102T090000
END:STANDARD
END:VTIMEZONE
BEGIN:VEVENT
DTSTART;VALUE=DATE:20241115
DTEND;VALUE=DATE:20241118
DTSTAMP:20260424T044234
CREATED:20241011T211127Z
LAST-MODIFIED:20241011T213411Z
UID:5166-1731628800-1731887999@vancouvercwl.ca
SUMMARY:North American Congress on Mercy
DESCRIPTION:[pdf-embedder url=”https://vancouvercwl.ca/cms/wp-content/uploads/North-American-Congress-on-Mercy.pdf” title=”North American Congress on Mercy”]
URL:https://vancouvercwl.ca/event/north-american-congress-on-mercy/
LOCATION:Good Shepherd Church\, 2250 150th St.\, Surrey\, B.C.\, Canada
CATEGORIES:Conference
END:VEVENT
END:VCALENDAR